BEGIN:VCALENDAR
VERSION:2.0
PRODID:-//Webitects//Calendar//EN
TZ:+00
BEGIN:VEVENT
METHOD:REQUEST
SEQUENCE:0
DTSTART:20260429T230000Z
DTEND:20260430T003000Z
DTSTAMP:20260423T131906Z
STATUS:CONFIRMED
PRIORITY:3
SUMMARY:Quarterly Community Safety Meeting
DESCRIPTION:The purpose of the meeting is to update residents and encourage their involvement in the community while assisting the River Forest Police Department prevent, stop, and solve crime.\nWe will have presentations from special guest community partners as well as members of our own police department.\nThe meeting will conclude with an open forum for community member questions, comments, and concerns.
LOCATION:Village Hall - 400 Park Avenue - River Forest - IL - 1st Floor - Community Room
CLASS:PUBLIC
END:VEVENT
END:VCALENDAR
