BEGIN:VCALENDAR
VERSION:2.0
PRODID:-//Webitects//Calendar//EN
TZ:+00
BEGIN:VEVENT
METHOD:REQUEST
SEQUENCE:0
DTSTART:20260513T210000Z
DTEND:20260513T230000Z
DTSTAMP:20260424T002352Z
STATUS:CONFIRMED
PRIORITY:3
SUMMARY:North Avenue Streetscape Improvements Project Meeting
DESCRIPTION:Residents are invited to attend a Public Information Meeting for the North Avenue Streetscape Improvements Project. This meeting is part of preliminary or phase I engineering for the project. The event will be held at St. Vincent Ferrer Catholic Church in Kyte Hall, 1530 Jackson Ave, on Wednesday, May 13th from 4:00 p.m. to 6:00 p.m. This project aims to create a more walkable and pedestrian-friendly environment along North Avenue between Thatcher Avenue and Harlem Avenue.\nPreliminary reports,&hellip;
LOCATION:St. Vincent Ferrer Catholic Church in Kyte Hall 1530 Jackson Ave. River Forest, IL 60305
CLASS:PUBLIC
END:VEVENT
END:VCALENDAR
