BEGIN:VCALENDAR
VERSION:2.0
PRODID:-//Webitects//Calendar//EN
TZ:+00
BEGIN:VEVENT
METHOD:REQUEST
SEQUENCE:0
DTSTART:20260427T230000Z
DTEND:20260428T000000Z
DTSTAMP:20260424T002745Z
STATUS:CONFIRMED
PRIORITY:3
SUMMARY:Special Board of Fire and Police Commissioners Meeting
DESCRIPTION:Board of Fire and Police Commissioners meeting are typically held the 4th Wednesday of each month, as needed.\nOther special Board of Fire and Police Commissioners meetings may be added as needed.
LOCATION:Village Hall - 400 Park Avenue - River Forest - IL - 2nd Floor - Conference Room
CLASS:PUBLIC
END:VEVENT
END:VCALENDAR
